BEGIN:VCALENDAR
VERSION:2.0
PRODID:-//WordPress//Event Calendar//EN
CALSCALE:GREGORIAN
METHOD:PUBLISH
BEGIN:VEVENT
UID:event-1330@acs.gmc.nagoya-u.ac.jp-1
DTSTART:20260415T054500Z
DTEND:20260415T071500Z
DTSTAMP:20260421T131236Z
SEQUENCE:0
SUMMARY:Sakura no kai
URL:https://acs.gmc.nagoya-u.ac.jp/en/events/sakura-no-kai/
END:VEVENT
BEGIN:VEVENT
UID:event-1330@acs.gmc.nagoya-u.ac.jp-2
DTSTART:20260424T054500Z
DTEND:20260424T071500Z
DTSTAMP:20260421T131236Z
SEQUENCE:0
SUMMARY:Sakura no kai
URL:https://acs.gmc.nagoya-u.ac.jp/en/events/sakura-no-kai/
END:VEVENT
BEGIN:VEVENT
UID:event-1330@acs.gmc.nagoya-u.ac.jp-3
DTSTART:20260520T054500Z
DTEND:20260520T071500Z
DTSTAMP:20260421T131236Z
SEQUENCE:0
SUMMARY:Sakura no kai
URL:https://acs.gmc.nagoya-u.ac.jp/en/events/sakura-no-kai/
END:VEVENT
BEGIN:VEVENT
UID:event-1330@acs.gmc.nagoya-u.ac.jp-4
DTSTART:20260522T054500Z
DTEND:20260522T074500Z
DTSTAMP:20260421T131236Z
SEQUENCE:0
SUMMARY:Sakura no kai
URL:https://acs.gmc.nagoya-u.ac.jp/en/events/sakura-no-kai/
END:VEVENT
BEGIN:VEVENT
UID:event-1330@acs.gmc.nagoya-u.ac.jp-5
DTSTART:20260617T054500Z
DTEND:20260617T071500Z
DTSTAMP:20260421T131236Z
SEQUENCE:0
SUMMARY:Sakura no kai
URL:https://acs.gmc.nagoya-u.ac.jp/en/events/sakura-no-kai/
END:VEVENT
BEGIN:VEVENT
UID:event-1330@acs.gmc.nagoya-u.ac.jp-6
DTSTART:20260626T054500Z
DTEND:20260626T071500Z
DTSTAMP:20260421T131236Z
SEQUENCE:0
SUMMARY:Sakura no kai
URL:https://acs.gmc.nagoya-u.ac.jp/en/events/sakura-no-kai/
END:VEVENT
BEGIN:VEVENT
UID:event-1330@acs.gmc.nagoya-u.ac.jp-7
DTSTART:20260715T054500Z
DTEND:20260715T071500Z
DTSTAMP:20260421T131236Z
SEQUENCE:0
SUMMARY:Sakura no kai
URL:https://acs.gmc.nagoya-u.ac.jp/en/events/sakura-no-kai/
END:VEVENT
BEGIN:VEVENT
UID:event-1330@acs.gmc.nagoya-u.ac.jp-8
DTSTART:20260724T054500Z
DTEND:20260724T071500Z
DTSTAMP:20260421T131236Z
SEQUENCE:0
SUMMARY:Sakura no kai
URL:https://acs.gmc.nagoya-u.ac.jp/en/events/sakura-no-kai/
END:VEVENT
END:VCALENDAR
